BEGIN:VCALENDAR
VERSION:2.0
PRODID:-//St. Paul&#039;s Norfolk - ECPv6.15.20//NONSGML v1.0//EN
CALSCALE:GREGORIAN
METHOD:PUBLISH
X-WR-CALNAME:St. Paul&#039;s Norfolk
X-ORIGINAL-URL:https://stpaulsnorfolk.org
X-WR-CALDESC:Events for St. Paul&#039;s Norfolk
REFRESH-INTERVAL;VALUE=DURATION:PT1H
X-Robots-Tag:noindex
X-PUBLISHED-TTL:PT1H
BEGIN:VTIMEZONE
TZID:America/New_York
BEGIN:DAYLIGHT
TZOFFSETFROM:-0500
TZOFFSETTO:-0400
TZNAME:EDT
DTSTART:20250309T070000
END:DAYLIGHT
BEGIN:STANDARD
TZOFFSETFROM:-0400
TZOFFSETTO:-0500
TZNAME:EST
DTSTART:20251102T060000
END:STANDARD
BEGIN:DAYLIGHT
TZOFFSETFROM:-0500
TZOFFSETTO:-0400
TZNAME:EDT
DTSTART:20260308T070000
END:DAYLIGHT
BEGIN:STANDARD
TZOFFSETFROM:-0400
TZOFFSETTO:-0500
TZNAME:EST
DTSTART:20261101T060000
END:STANDARD
BEGIN:DAYLIGHT
TZOFFSETFROM:-0500
TZOFFSETTO:-0400
TZNAME:EDT
DTSTART:20270314T070000
END:DAYLIGHT
BEGIN:STANDARD
TZOFFSETFROM:-0400
TZOFFSETTO:-0500
TZNAME:EST
DTSTART:20271107T060000
END:STANDARD
BEGIN:DAYLIGHT
TZOFFSETFROM:-0500
TZOFFSETTO:-0400
TZNAME:EDT
DTSTART:20280312T070000
END:DAYLIGHT
BEGIN:STANDARD
TZOFFSETFROM:-0400
TZOFFSETTO:-0500
TZNAME:EST
DTSTART:20281105T060000
END:STANDARD
END:VTIMEZONE
BEGIN:VEVENT
DTSTART;TZID=America/New_York:20261227T080000
DTEND;TZID=America/New_York:20261227T090000
DTSTAMP:20260423T052254
CREATED:20260205T211024Z
LAST-MODIFIED:20260205T211024Z
UID:10004995-1798358400-1798362000@stpaulsnorfolk.org
SUMMARY:Holy Eucharist Rite I
DESCRIPTION:
URL:https://stpaulsnorfolk.org/event/holy-eucharist-rite-i-2/2026-12-27/
LOCATION:Sanctuary\, 201 St. Paul's Blvd\, Norfolk\, VA\, 23510\, United States
END:VEVENT
BEGIN:VEVENT
DTSTART;TZID=America/New_York:20261227T093000
DTEND;TZID=America/New_York:20261227T101500
DTSTAMP:20260423T052254
CREATED:20260205T211331Z
LAST-MODIFIED:20260205T211331Z
UID:10005257-1798363800-1798366500@stpaulsnorfolk.org
SUMMARY:Christian Formation Classes
DESCRIPTION:Christian Education classes for children and adults!
URL:https://stpaulsnorfolk.org/event/christian-formation-classes/2026-12-27/
LOCATION:Parish Hall\, 201 St. Paul’s Blvd.\, Norfolk\, VA\, 23510\, United States
END:VEVENT
BEGIN:VEVENT
DTSTART;TZID=America/New_York:20261227T103000
DTEND;TZID=America/New_York:20261227T113000
DTSTAMP:20260423T052254
CREATED:20260205T211512Z
LAST-MODIFIED:20260205T211512Z
UID:10005326-1798367400-1798371000@stpaulsnorfolk.org
SUMMARY:Holy Eucharist Rite II
DESCRIPTION:
URL:https://stpaulsnorfolk.org/event/holy-eucharist-rite-ii/2026-12-27/
LOCATION:Sanctuary\, 201 St. Paul's Blvd\, Norfolk\, VA\, 23510\, United States
END:VEVENT
BEGIN:VEVENT
DTSTART;TZID=America/New_York:20270103T080000
DTEND;TZID=America/New_York:20270103T090000
DTSTAMP:20260423T052254
CREATED:20260205T211024Z
LAST-MODIFIED:20260205T211024Z
UID:10004996-1798963200-1798966800@stpaulsnorfolk.org
SUMMARY:Holy Eucharist Rite I
DESCRIPTION:
URL:https://stpaulsnorfolk.org/event/holy-eucharist-rite-i-2/2027-01-03/
LOCATION:Sanctuary\, 201 St. Paul's Blvd\, Norfolk\, VA\, 23510\, United States
END:VEVENT
BEGIN:VEVENT
DTSTART;TZID=America/New_York:20270103T093000
DTEND;TZID=America/New_York:20270103T101500
DTSTAMP:20260423T052254
CREATED:20260205T211331Z
LAST-MODIFIED:20260205T211331Z
UID:10005258-1798968600-1798971300@stpaulsnorfolk.org
SUMMARY:Christian Formation Classes
DESCRIPTION:Christian Education classes for children and adults!
URL:https://stpaulsnorfolk.org/event/christian-formation-classes/2027-01-03/
LOCATION:Parish Hall\, 201 St. Paul’s Blvd.\, Norfolk\, VA\, 23510\, United States
END:VEVENT
BEGIN:VEVENT
DTSTART;TZID=America/New_York:20270103T103000
DTEND;TZID=America/New_York:20270103T113000
DTSTAMP:20260423T052254
CREATED:20260205T211512Z
LAST-MODIFIED:20260205T211512Z
UID:10005327-1798972200-1798975800@stpaulsnorfolk.org
SUMMARY:Holy Eucharist Rite II
DESCRIPTION:
URL:https://stpaulsnorfolk.org/event/holy-eucharist-rite-ii/2027-01-03/
LOCATION:Sanctuary\, 201 St. Paul's Blvd\, Norfolk\, VA\, 23510\, United States
END:VEVENT
BEGIN:VEVENT
DTSTART;TZID=America/New_York:20270110T080000
DTEND;TZID=America/New_York:20270110T090000
DTSTAMP:20260423T052254
CREATED:20260205T211024Z
LAST-MODIFIED:20260205T211024Z
UID:10004997-1799568000-1799571600@stpaulsnorfolk.org
SUMMARY:Holy Eucharist Rite I
DESCRIPTION:
URL:https://stpaulsnorfolk.org/event/holy-eucharist-rite-i-2/2027-01-10/
LOCATION:Sanctuary\, 201 St. Paul's Blvd\, Norfolk\, VA\, 23510\, United States
END:VEVENT
BEGIN:VEVENT
DTSTART;TZID=America/New_York:20270110T093000
DTEND;TZID=America/New_York:20270110T101500
DTSTAMP:20260423T052254
CREATED:20260205T211331Z
LAST-MODIFIED:20260205T211331Z
UID:10005259-1799573400-1799576100@stpaulsnorfolk.org
SUMMARY:Christian Formation Classes
DESCRIPTION:Christian Education classes for children and adults!
URL:https://stpaulsnorfolk.org/event/christian-formation-classes/2027-01-10/
LOCATION:Parish Hall\, 201 St. Paul’s Blvd.\, Norfolk\, VA\, 23510\, United States
END:VEVENT
BEGIN:VEVENT
DTSTART;TZID=America/New_York:20270110T103000
DTEND;TZID=America/New_York:20270110T113000
DTSTAMP:20260423T052254
CREATED:20260205T211512Z
LAST-MODIFIED:20260205T211512Z
UID:10005328-1799577000-1799580600@stpaulsnorfolk.org
SUMMARY:Holy Eucharist Rite II
DESCRIPTION:
URL:https://stpaulsnorfolk.org/event/holy-eucharist-rite-ii/2027-01-10/
LOCATION:Sanctuary\, 201 St. Paul's Blvd\, Norfolk\, VA\, 23510\, United States
END:VEVENT
BEGIN:VEVENT
DTSTART;TZID=America/New_York:20270117T080000
DTEND;TZID=America/New_York:20270117T090000
DTSTAMP:20260423T052254
CREATED:20260205T211024Z
LAST-MODIFIED:20260205T211024Z
UID:10004998-1800172800-1800176400@stpaulsnorfolk.org
SUMMARY:Holy Eucharist Rite I
DESCRIPTION:
URL:https://stpaulsnorfolk.org/event/holy-eucharist-rite-i-2/2027-01-17/
LOCATION:Sanctuary\, 201 St. Paul's Blvd\, Norfolk\, VA\, 23510\, United States
END:VEVENT
BEGIN:VEVENT
DTSTART;TZID=America/New_York:20270117T093000
DTEND;TZID=America/New_York:20270117T101500
DTSTAMP:20260423T052254
CREATED:20260205T211331Z
LAST-MODIFIED:20260205T211331Z
UID:10005260-1800178200-1800180900@stpaulsnorfolk.org
SUMMARY:Christian Formation Classes
DESCRIPTION:Christian Education classes for children and adults!
URL:https://stpaulsnorfolk.org/event/christian-formation-classes/2027-01-17/
LOCATION:Parish Hall\, 201 St. Paul’s Blvd.\, Norfolk\, VA\, 23510\, United States
END:VEVENT
BEGIN:VEVENT
DTSTART;TZID=America/New_York:20270117T103000
DTEND;TZID=America/New_York:20270117T113000
DTSTAMP:20260423T052254
CREATED:20260205T211512Z
LAST-MODIFIED:20260205T211512Z
UID:10005329-1800181800-1800185400@stpaulsnorfolk.org
SUMMARY:Holy Eucharist Rite II
DESCRIPTION:
URL:https://stpaulsnorfolk.org/event/holy-eucharist-rite-ii/2027-01-17/
LOCATION:Sanctuary\, 201 St. Paul's Blvd\, Norfolk\, VA\, 23510\, United States
END:VEVENT
BEGIN:VEVENT
DTSTART;TZID=America/New_York:20270124T080000
DTEND;TZID=America/New_York:20270124T090000
DTSTAMP:20260423T052254
CREATED:20260205T211024Z
LAST-MODIFIED:20260205T211024Z
UID:10004999-1800777600-1800781200@stpaulsnorfolk.org
SUMMARY:Holy Eucharist Rite I
DESCRIPTION:
URL:https://stpaulsnorfolk.org/event/holy-eucharist-rite-i-2/2027-01-24/
LOCATION:Sanctuary\, 201 St. Paul's Blvd\, Norfolk\, VA\, 23510\, United States
END:VEVENT
BEGIN:VEVENT
DTSTART;TZID=America/New_York:20270124T093000
DTEND;TZID=America/New_York:20270124T101500
DTSTAMP:20260423T052254
CREATED:20260205T211331Z
LAST-MODIFIED:20260205T211331Z
UID:10005261-1800783000-1800785700@stpaulsnorfolk.org
SUMMARY:Christian Formation Classes
DESCRIPTION:Christian Education classes for children and adults!
URL:https://stpaulsnorfolk.org/event/christian-formation-classes/2027-01-24/
LOCATION:Parish Hall\, 201 St. Paul’s Blvd.\, Norfolk\, VA\, 23510\, United States
END:VEVENT
BEGIN:VEVENT
DTSTART;TZID=America/New_York:20270124T103000
DTEND;TZID=America/New_York:20270124T113000
DTSTAMP:20260423T052254
CREATED:20260205T211512Z
LAST-MODIFIED:20260205T211512Z
UID:10005330-1800786600-1800790200@stpaulsnorfolk.org
SUMMARY:Holy Eucharist Rite II
DESCRIPTION:
URL:https://stpaulsnorfolk.org/event/holy-eucharist-rite-ii/2027-01-24/
LOCATION:Sanctuary\, 201 St. Paul's Blvd\, Norfolk\, VA\, 23510\, United States
END:VEVENT
BEGIN:VEVENT
DTSTART;TZID=America/New_York:20270131T080000
DTEND;TZID=America/New_York:20270131T090000
DTSTAMP:20260423T052254
CREATED:20260205T211024Z
LAST-MODIFIED:20260205T211024Z
UID:10005000-1801382400-1801386000@stpaulsnorfolk.org
SUMMARY:Holy Eucharist Rite I
DESCRIPTION:
URL:https://stpaulsnorfolk.org/event/holy-eucharist-rite-i-2/2027-01-31/
LOCATION:Sanctuary\, 201 St. Paul's Blvd\, Norfolk\, VA\, 23510\, United States
END:VEVENT
BEGIN:VEVENT
DTSTART;TZID=America/New_York:20270131T093000
DTEND;TZID=America/New_York:20270131T101500
DTSTAMP:20260423T052254
CREATED:20260205T211331Z
LAST-MODIFIED:20260205T211331Z
UID:10005262-1801387800-1801390500@stpaulsnorfolk.org
SUMMARY:Christian Formation Classes
DESCRIPTION:Christian Education classes for children and adults!
URL:https://stpaulsnorfolk.org/event/christian-formation-classes/2027-01-31/
LOCATION:Parish Hall\, 201 St. Paul’s Blvd.\, Norfolk\, VA\, 23510\, United States
END:VEVENT
BEGIN:VEVENT
DTSTART;TZID=America/New_York:20270131T103000
DTEND;TZID=America/New_York:20270131T113000
DTSTAMP:20260423T052254
CREATED:20260205T211512Z
LAST-MODIFIED:20260205T211512Z
UID:10005331-1801391400-1801395000@stpaulsnorfolk.org
SUMMARY:Holy Eucharist Rite II
DESCRIPTION:
URL:https://stpaulsnorfolk.org/event/holy-eucharist-rite-ii/2027-01-31/
LOCATION:Sanctuary\, 201 St. Paul's Blvd\, Norfolk\, VA\, 23510\, United States
END:VEVENT
BEGIN:VEVENT
DTSTART;TZID=America/New_York:20270207T080000
DTEND;TZID=America/New_York:20270207T090000
DTSTAMP:20260423T052254
CREATED:20260205T211024Z
LAST-MODIFIED:20260205T211024Z
UID:10005001-1801987200-1801990800@stpaulsnorfolk.org
SUMMARY:Holy Eucharist Rite I
DESCRIPTION:
URL:https://stpaulsnorfolk.org/event/holy-eucharist-rite-i-2/2027-02-07/
LOCATION:Sanctuary\, 201 St. Paul's Blvd\, Norfolk\, VA\, 23510\, United States
END:VEVENT
BEGIN:VEVENT
DTSTART;TZID=America/New_York:20270207T093000
DTEND;TZID=America/New_York:20270207T101500
DTSTAMP:20260423T052254
CREATED:20260205T211331Z
LAST-MODIFIED:20260205T211331Z
UID:10005263-1801992600-1801995300@stpaulsnorfolk.org
SUMMARY:Christian Formation Classes
DESCRIPTION:Christian Education classes for children and adults!
URL:https://stpaulsnorfolk.org/event/christian-formation-classes/2027-02-07/
LOCATION:Parish Hall\, 201 St. Paul’s Blvd.\, Norfolk\, VA\, 23510\, United States
END:VEVENT
BEGIN:VEVENT
DTSTART;TZID=America/New_York:20270207T103000
DTEND;TZID=America/New_York:20270207T113000
DTSTAMP:20260423T052254
CREATED:20260205T211512Z
LAST-MODIFIED:20260205T211512Z
UID:10005332-1801996200-1801999800@stpaulsnorfolk.org
SUMMARY:Holy Eucharist Rite II
DESCRIPTION:
URL:https://stpaulsnorfolk.org/event/holy-eucharist-rite-ii/2027-02-07/
LOCATION:Sanctuary\, 201 St. Paul's Blvd\, Norfolk\, VA\, 23510\, United States
END:VEVENT
BEGIN:VEVENT
DTSTART;TZID=America/New_York:20270214T080000
DTEND;TZID=America/New_York:20270214T090000
DTSTAMP:20260423T052254
CREATED:20260205T211024Z
LAST-MODIFIED:20260205T211024Z
UID:10005002-1802592000-1802595600@stpaulsnorfolk.org
SUMMARY:Holy Eucharist Rite I
DESCRIPTION:
URL:https://stpaulsnorfolk.org/event/holy-eucharist-rite-i-2/2027-02-14/
LOCATION:Sanctuary\, 201 St. Paul's Blvd\, Norfolk\, VA\, 23510\, United States
END:VEVENT
BEGIN:VEVENT
DTSTART;TZID=America/New_York:20270214T093000
DTEND;TZID=America/New_York:20270214T101500
DTSTAMP:20260423T052254
CREATED:20260205T211331Z
LAST-MODIFIED:20260205T211331Z
UID:10005264-1802597400-1802600100@stpaulsnorfolk.org
SUMMARY:Christian Formation Classes
DESCRIPTION:Christian Education classes for children and adults!
URL:https://stpaulsnorfolk.org/event/christian-formation-classes/2027-02-14/
LOCATION:Parish Hall\, 201 St. Paul’s Blvd.\, Norfolk\, VA\, 23510\, United States
END:VEVENT
BEGIN:VEVENT
DTSTART;TZID=America/New_York:20270214T103000
DTEND;TZID=America/New_York:20270214T113000
DTSTAMP:20260423T052254
CREATED:20260205T211512Z
LAST-MODIFIED:20260205T211512Z
UID:10005333-1802601000-1802604600@stpaulsnorfolk.org
SUMMARY:Holy Eucharist Rite II
DESCRIPTION:
URL:https://stpaulsnorfolk.org/event/holy-eucharist-rite-ii/2027-02-14/
LOCATION:Sanctuary\, 201 St. Paul's Blvd\, Norfolk\, VA\, 23510\, United States
END:VEVENT
BEGIN:VEVENT
DTSTART;TZID=America/New_York:20270221T080000
DTEND;TZID=America/New_York:20270221T090000
DTSTAMP:20260423T052254
CREATED:20260205T211024Z
LAST-MODIFIED:20260205T211024Z
UID:10005003-1803196800-1803200400@stpaulsnorfolk.org
SUMMARY:Holy Eucharist Rite I
DESCRIPTION:
URL:https://stpaulsnorfolk.org/event/holy-eucharist-rite-i-2/2027-02-21/
LOCATION:Sanctuary\, 201 St. Paul's Blvd\, Norfolk\, VA\, 23510\, United States
END:VEVENT
BEGIN:VEVENT
DTSTART;TZID=America/New_York:20270221T093000
DTEND;TZID=America/New_York:20270221T101500
DTSTAMP:20260423T052254
CREATED:20260205T211331Z
LAST-MODIFIED:20260205T211331Z
UID:10005265-1803202200-1803204900@stpaulsnorfolk.org
SUMMARY:Christian Formation Classes
DESCRIPTION:Christian Education classes for children and adults!
URL:https://stpaulsnorfolk.org/event/christian-formation-classes/2027-02-21/
LOCATION:Parish Hall\, 201 St. Paul’s Blvd.\, Norfolk\, VA\, 23510\, United States
END:VEVENT
BEGIN:VEVENT
DTSTART;TZID=America/New_York:20270221T103000
DTEND;TZID=America/New_York:20270221T113000
DTSTAMP:20260423T052254
CREATED:20260205T211512Z
LAST-MODIFIED:20260205T211512Z
UID:10005334-1803205800-1803209400@stpaulsnorfolk.org
SUMMARY:Holy Eucharist Rite II
DESCRIPTION:
URL:https://stpaulsnorfolk.org/event/holy-eucharist-rite-ii/2027-02-21/
LOCATION:Sanctuary\, 201 St. Paul's Blvd\, Norfolk\, VA\, 23510\, United States
END:VEVENT
BEGIN:VEVENT
DTSTART;TZID=America/New_York:20270228T080000
DTEND;TZID=America/New_York:20270228T090000
DTSTAMP:20260423T052254
CREATED:20260205T211024Z
LAST-MODIFIED:20260205T211024Z
UID:10005004-1803801600-1803805200@stpaulsnorfolk.org
SUMMARY:Holy Eucharist Rite I
DESCRIPTION:
URL:https://stpaulsnorfolk.org/event/holy-eucharist-rite-i-2/2027-02-28/
LOCATION:Sanctuary\, 201 St. Paul's Blvd\, Norfolk\, VA\, 23510\, United States
END:VEVENT
BEGIN:VEVENT
DTSTART;TZID=America/New_York:20270228T093000
DTEND;TZID=America/New_York:20270228T101500
DTSTAMP:20260423T052254
CREATED:20260205T211331Z
LAST-MODIFIED:20260205T211331Z
UID:10005266-1803807000-1803809700@stpaulsnorfolk.org
SUMMARY:Christian Formation Classes
DESCRIPTION:Christian Education classes for children and adults!
URL:https://stpaulsnorfolk.org/event/christian-formation-classes/2027-02-28/
LOCATION:Parish Hall\, 201 St. Paul’s Blvd.\, Norfolk\, VA\, 23510\, United States
END:VEVENT
BEGIN:VEVENT
DTSTART;TZID=America/New_York:20270228T103000
DTEND;TZID=America/New_York:20270228T113000
DTSTAMP:20260423T052254
CREATED:20260205T211512Z
LAST-MODIFIED:20260205T211512Z
UID:10005335-1803810600-1803814200@stpaulsnorfolk.org
SUMMARY:Holy Eucharist Rite II
DESCRIPTION:
URL:https://stpaulsnorfolk.org/event/holy-eucharist-rite-ii/2027-02-28/
LOCATION:Sanctuary\, 201 St. Paul's Blvd\, Norfolk\, VA\, 23510\, United States
END:VEVENT
END:VCALENDAR