BEGIN:VCALENDAR
VERSION:2.0
PRODID:-//St. Paul&#039;s Norfolk - ECPv6.15.20//NONSGML v1.0//EN
CALSCALE:GREGORIAN
METHOD:PUBLISH
X-ORIGINAL-URL:https://stpaulsnorfolk.org
X-WR-CALDESC:Events for St. Paul&#039;s Norfolk
REFRESH-INTERVAL;VALUE=DURATION:PT1H
X-Robots-Tag:noindex
X-PUBLISHED-TTL:PT1H
BEGIN:VTIMEZONE
TZID:America/New_York
BEGIN:DAYLIGHT
TZOFFSETFROM:-0500
TZOFFSETTO:-0400
TZNAME:EDT
DTSTART:20240310T070000
END:DAYLIGHT
BEGIN:STANDARD
TZOFFSETFROM:-0400
TZOFFSETTO:-0500
TZNAME:EST
DTSTART:20241103T060000
END:STANDARD
BEGIN:DAYLIGHT
TZOFFSETFROM:-0500
TZOFFSETTO:-0400
TZNAME:EDT
DTSTART:20250309T070000
END:DAYLIGHT
BEGIN:STANDARD
TZOFFSETFROM:-0400
TZOFFSETTO:-0500
TZNAME:EST
DTSTART:20251102T060000
END:STANDARD
BEGIN:DAYLIGHT
TZOFFSETFROM:-0500
TZOFFSETTO:-0400
TZNAME:EDT
DTSTART:20260308T070000
END:DAYLIGHT
BEGIN:STANDARD
TZOFFSETFROM:-0400
TZOFFSETTO:-0500
TZNAME:EST
DTSTART:20261101T060000
END:STANDARD
END:VTIMEZONE
BEGIN:VEVENT
DTSTART;TZID=America/New_York:20251231T073000
DTEND;TZID=America/New_York:20251231T083000
DTSTAMP:20260424T061833
CREATED:20240115T215217Z
LAST-MODIFIED:20250609T122829Z
UID:10002206-1767166200-1767169800@stpaulsnorfolk.org
SUMMARY:Men's Bible Study Group
DESCRIPTION:
URL:https://stpaulsnorfolk.org/event/mens-bible-study/2025-12-31/
LOCATION:Parish Hall\, 201 St. Paul’s Blvd.\, Norfolk\, VA\, 23510\, United States
ATTACH;FMTTYPE=image/jpeg:https://stpaulsnorfolk.org/wp-content/uploads/2024/01/biblestudymen-scaled.jpeg
END:VEVENT
BEGIN:VEVENT
DTSTART;TZID=America/New_York:20251231T120000
DTEND;TZID=America/New_York:20251231T123000
DTSTAMP:20260424T061833
CREATED:20241127T172645Z
LAST-MODIFIED:20250609T122622Z
UID:10004183-1767182400-1767184200@stpaulsnorfolk.org
SUMMARY:Noonday Service
DESCRIPTION:A short weekly Eucharist service in the chapel at 12:00 pm. All are welcome.
URL:https://stpaulsnorfolk.org/event/noonday-service/2025-12-31/
LOCATION:Chapel\, 201 St. Paul's Blvd.\, Norfolk\, VA\, 23510\, United States
ATTACH;FMTTYPE=image/jpeg:https://stpaulsnorfolk.org/wp-content/uploads/2024/11/Chapel-scaled.jpg
END:VEVENT
END:VCALENDAR